BEGIN:VCALENDAR
VERSION:2.0
PRODID:-//eventon.com NONSGML v1.0//EN
BEGIN:VEVENT
UID:69e4d46aad806
DTSTAMP:20260419T091106
DTSTART:20260504T223000Z
DTEND:20260505T030000Z
LOCATION:
SUMMARY:MAGA-rita Monday!
DESCRIPTION: Celebrate Cinco de Mayo with an NYYRC social!Join us for the return of MAGArita Monday: Cinco de Mayo edition! A high-energy celebration bringing together culture\,  community\,  and conservative values. Co-hosted by the Hispanic Caucus of the New York Young Republican Club\,  this event blends the spirit of Cinco de Mayo[..]
END:VEVENT
END:VCALENDAR